BEGIN:VCALENDAR
VERSION:2.0
PRODID:-//Plone.org//NONSGML plone.app.event//EN
X-WR-TIMEZONE:Europe/Madrid
BEGIN:VEVENT
SUMMARY:Festa de la proclamació de la Pubilla, l'Hereu, la Pubilleta i l'Hereuet de Canet 2018
DTSTART;TZID=Europe/Madrid;VALUE=DATE-TIME:20180630T183000
DTEND;TZID=Europe/Madrid;VALUE=DATE-TIME:20180630T193000
DTSTAMP;VALUE=DATE-TIME:20260424T024408Z
UID:26808a855a2b5e24c9f8bf258e2274ba
CREATED;VALUE=DATE-TIME:20180630T000000Z
LOCATION:plaça Universitat
ORGANIZER:Àrea de Participació Ciutadana
DESCRIPTION:Festa Major 2018
URL:https://www.canetdemar.cat/document.php?id=17266
END:VEVENT
END:VCALENDAR