BEGIN:VCALENDAR
VERSION:2.0
PRODID:-//Plone.org//NONSGML plone.app.event//EN
X-WR-TIMEZONE:Europe/Madrid
BEGIN:VEVENT
SUMMARY:XXII Musclada Popular
DTSTART;TZID=Europe/Madrid;VALUE=DATE-TIME:20180714T180000
DTEND;TZID=Europe/Madrid;VALUE=DATE-TIME:20180714T190000
DTSTAMP;VALUE=DATE-TIME:20260424T115216Z
UID:3116bd978b18b84e0f58c0cfb7b0c403
CREATED;VALUE=DATE-TIME:20180714T000000Z
LOCATION:riera Sant Domènech, en cas de pluja a la Pista d'Hoquei del Pavelló
ORGANIZER:Moixons Llepafils i Àrea de Festes
DESCRIPTION:Festa Major 2018
URL:https://www.canetdemar.cat/document.php?id=17265
END:VEVENT
END:VCALENDAR