BEGIN:VCALENDAR
VERSION:2.0
PRODID:-//Plone.org//NONSGML plone.app.event//EN
X-WR-TIMEZONE:Europe/Madrid
BEGIN:VEVENT
SUMMARY:XXXIII Trobada de Gegants
DTSTART;TZID=Europe/Madrid;VALUE=DATE-TIME:20180701T180000
DTEND;TZID=Europe/Madrid;VALUE=DATE-TIME:20180701T190000
DTSTAMP;VALUE=DATE-TIME:20260424T113942Z
UID:14d9db0732a284b986ca5c399354a473
CREATED;VALUE=DATE-TIME:20180701T000000Z
LOCATION:plaça Església
DESCRIPTION:Festa Major 2018
URL:https://www.canetdemar.cat/document.php?id=17258
END:VEVENT
END:VCALENDAR