BEGIN:VCALENDAR
VERSION:2.0
PRODID:-//Plone.org//NONSGML plone.app.event//EN
X-WR-TIMEZONE:Europe/Madrid
BEGIN:VEVENT
SUMMARY:Torneig infantil-juvenil d'Escacs
DTSTART;TZID=Europe/Madrid;VALUE=DATE-TIME:20180630T110000
DTEND;TZID=Europe/Madrid;VALUE=DATE-TIME:20180630T120000
DTSTAMP;VALUE=DATE-TIME:20260424T152304Z
UID:15c0fb7127495e69eeba0d8f9bba44d3
CREATED;VALUE=DATE-TIME:20180630T000000Z
LOCATION:El Centru
ORGANIZER:Club d'Escacs Canet
DESCRIPTION:Festa Major 2018
URL:https://www.canetdemar.cat/document.php?id=17245
END:VEVENT
END:VCALENDAR