BEGIN:VCALENDAR
VERSION:2.0
PRODID:-//Plone.org//NONSGML plone.app.event//EN
X-WR-TIMEZONE:Europe/Madrid
BEGIN:VEVENT
SUMMARY:Revetlla Rumbera de Sant Pere
DTSTART;TZID=Europe/Madrid;VALUE=DATE-TIME:20180628T220000
DTEND;TZID=Europe/Madrid;VALUE=DATE-TIME:20180628T230000
DTSTAMP;VALUE=DATE-TIME:20260422T183928Z
UID:2bc28d0794cd6023666ac01b41646340
CREATED;VALUE=DATE-TIME:20180628T000000Z
LOCATION:riera Sant Domènec
ORGANIZER:Àrea de Festes
DESCRIPTION:Festa Major 2018
URL:https://www.canetdemar.cat/document.php?id=17240
END:VEVENT
END:VCALENDAR