BEGIN:VCALENDAR
VERSION:2.0
PRODID:-//Plone.org//NONSGML plone.app.event//EN
X-WR-TIMEZONE:Europe/Madrid
BEGIN:VEVENT
SUMMARY:Xerrada: Criança no sexista
DTSTART;TZID=Europe/Madrid;VALUE=DATE-TIME:20180602T173000
DTEND;TZID=Europe/Madrid;VALUE=DATE-TIME:20180602T183000
DTSTAMP;VALUE=DATE-TIME:20260424T120628Z
UID:1d94e4c07ed5dbcf52c4e9c3d43e0765
CREATED;VALUE=DATE-TIME:20180602T000000Z
ORGANIZER:Associació prolactància Lactamar - La tribu Lactamar
COMMENT:Preu: donació aconsellada: 6 euros
URL:https://www.canetdemar.cat/document.php?id=17214
END:VEVENT
END:VCALENDAR