BEGIN:VCALENDAR
VERSION:2.0
PRODID:-//Plone.org//NONSGML plone.app.event//EN
X-WR-TIMEZONE:Europe/Madrid
BEGIN:VEVENT
SUMMARY:Festa del barri dels Socarrats
DTSTART;TZID=Europe/Madrid;VALUE=DATE-TIME:20180609T100000
DTEND;TZID=Europe/Madrid;VALUE=DATE-TIME:20180609T110000
DTSTAMP;VALUE=DATE-TIME:20260421T174642Z
UID:35576cca156b3ad93abaceb84da210af
CREATED;VALUE=DATE-TIME:20180609T000000Z
ORGANIZER:Associació de Veïns del Barri dels Socarrats
URL:https://www.canetdemar.cat/document.php?id=17212
END:VEVENT
END:VCALENDAR