BEGIN:VCALENDAR
VERSION:2.0
PRODID:-//Plone.org//NONSGML plone.app.event//EN
X-WR-TIMEZONE:Europe/Madrid
BEGIN:VEVENT
SUMMARY:Taller: "Encuentra tu ruta"
DTSTART;TZID=Europe/Madrid;VALUE=DATE-TIME:20180619T090000
DTEND;TZID=Europe/Madrid;VALUE=DATE-TIME:20180619T100000
DTSTAMP;VALUE=DATE-TIME:20260423T015927Z
UID:006a48032a86d1053edcc19d1a112dc0
CREATED;VALUE=DATE-TIME:20180619T000000Z
LOCATION:La Masoveria de Vil·la Flora
ORGANIZER:Àrea de Participació
COMMENT:Preu: gratuït
Durada: 19 i 20 de juny de 9.00 a 14.00 hores
URL:https://www.canetdemar.cat/document.php?id=17188
END:VEVENT
END:VCALENDAR