BEGIN:VCALENDAR
VERSION:2.0
PRODID:-//Plone.org//NONSGML plone.app.event//EN
X-WR-TIMEZONE:Europe/Madrid
BEGIN:VEVENT
SUMMARY:Teatre: Anguilas + tast de vins
DTSTART;TZID=Europe/Madrid;VALUE=DATE-TIME:20180608T213000
DTEND;TZID=Europe/Madrid;VALUE=DATE-TIME:20180608T223000
DTSTAMP;VALUE=DATE-TIME:20260422T165121Z
UID:012f4e1e398440490fb783922a3c9a58
CREATED;VALUE=DATE-TIME:20180608T000000Z
LOCATION:Escola de Teixits -CRTTT
ORGANIZER:Associació Cultural Plataforma Odèon - ACPO
COMMENT:Preu: Anticipades: 12 euros, no anticipades: 15 euros
URL:https://www.canetdemar.cat/document.php?id=17183
END:VEVENT
END:VCALENDAR