BEGIN:VCALENDAR
VERSION:2.0
PRODID:-//Plone.org//NONSGML plone.app.event//EN
X-WR-TIMEZONE:Europe/Madrid
BEGIN:VEVENT
SUMMARY:Diumenges de ball
DTSTART;TZID=Europe/Madrid;VALUE=DATE-TIME:20180527T190000
DTEND;TZID=Europe/Madrid;VALUE=DATE-TIME:20180527T200000
DTSTAMP;VALUE=DATE-TIME:20260423T034920Z
UID:5b64bc098d44df9cecaec83660de8b0d
CREATED;VALUE=DATE-TIME:20180527T000000Z
LOCATION:Envelat de Vil·la Flora
ORGANIZER:Amcis del ball
URL:https://www.canetdemar.cat/document.php?id=17122
END:VEVENT
END:VCALENDAR