BEGIN:VCALENDAR
VERSION:2.0
PRODID:-//Plone.org//NONSGML plone.app.event//EN
X-WR-TIMEZONE:Europe/Madrid
BEGIN:VEVENT
SUMMARY:Diumenges de ball
DTSTART;TZID=Europe/Madrid;VALUE=DATE-TIME:20180520T190000
DTEND;TZID=Europe/Madrid;VALUE=DATE-TIME:20180520T200000
DTSTAMP;VALUE=DATE-TIME:20260425T060355Z
UID:d8fbf9bc6abd1de00504fb7fcac8b697
CREATED;VALUE=DATE-TIME:20180520T000000Z
LOCATION:Envelat de Vil·la Flora
ORGANIZER:Amics del ball
URL:https://www.canetdemar.cat/document.php?id=17121
END:VEVENT
END:VCALENDAR