BEGIN:VCALENDAR
VERSION:2.0
PRODID:-//Plone.org//NONSGML plone.app.event//EN
X-WR-TIMEZONE:Europe/Madrid
BEGIN:VEVENT
SUMMARY:Diumenges de ball
DTSTART;TZID=Europe/Madrid;VALUE=DATE-TIME:20180513T190000
DTEND;TZID=Europe/Madrid;VALUE=DATE-TIME:20180513T200000
DTSTAMP;VALUE=DATE-TIME:20260421T113415Z
UID:e290968fbddd1fdc8dca36bfe02817aa
CREATED;VALUE=DATE-TIME:20180513T000000Z
LOCATION:Envelat de Vil·la Flora
ORGANIZER:Amics del ball
URL:https://www.canetdemar.cat/document.php?id=17120
END:VEVENT
END:VCALENDAR