BEGIN:VCALENDAR
VERSION:2.0
PRODID:-//Plone.org//NONSGML plone.app.event//EN
X-WR-TIMEZONE:Europe/Madrid
BEGIN:VEVENT
SUMMARY:Sessió informativa: Tu crees les teves pròpies oportunitats
DTSTART;TZID=Europe/Madrid;VALUE=DATE-TIME:20180511T173000
DTEND;TZID=Europe/Madrid;VALUE=DATE-TIME:20180511T183000
DTSTAMP;VALUE=DATE-TIME:20260423T015633Z
UID:768d43411940e699138f8749c0126f47
CREATED;VALUE=DATE-TIME:20180511T000000Z
LOCATION:Sala Cultural Ramon de Capmany
URL:https://www.canetdemar.cat/document.php?id=17085
END:VEVENT
END:VCALENDAR