BEGIN:VCALENDAR
VERSION:2.0
PRODID:-//Plone.org//NONSGML plone.app.event//EN
X-WR-TIMEZONE:Europe/Madrid
BEGIN:VEVENT
SUMMARY:Patis oberts a l'abril
DTSTART;TZID=Europe/Madrid;VALUE=DATE-TIME:20180408T160000
DTEND;TZID=Europe/Madrid;VALUE=DATE-TIME:20180408T170000
DTSTAMP;VALUE=DATE-TIME:20260425T172232Z
UID:4a53302df0d40983ddc0e85cc0347340
CREATED;VALUE=DATE-TIME:20180408T000000Z
LOCATION:Pati de l'Institut Lluís Domènech i Montaner
ORGANIZER:Àrea de Medi Ambient
COMMENT:Durada: El 8, 15, 22 i 29 d'abril de 16.00 a 21.00 hores
URL:https://www.canetdemar.cat/document.php?id=17046
END:VEVENT
END:VCALENDAR