BEGIN:VCALENDAR
VERSION:2.0
PRODID:-//Plone.org//NONSGML plone.app.event//EN
X-WR-TIMEZONE:Europe/Madrid
BEGIN:VEVENT
SUMMARY:Taller: introducció als feminismes
DTSTART;TZID=Europe/Madrid;VALUE=DATE-TIME:20180510T180000
DTEND;TZID=Europe/Madrid;VALUE=DATE-TIME:20180510T190000
DTSTAMP;VALUE=DATE-TIME:20260424T094319Z
UID:26abb2166520186a8cc6ee4527ae5e39
CREATED;VALUE=DATE-TIME:20180510T000000Z
LOCATION:La Masoveria de Vil·la Flora
ORGANIZER:Àrea de Joventut
URL:https://www.canetdemar.cat/document.php?id=17044
END:VEVENT
END:VCALENDAR