BEGIN:VCALENDAR
VERSION:2.0
PRODID:-//Plone.org//NONSGML plone.app.event//EN
X-WR-TIMEZONE:Europe/Madrid
BEGIN:VEVENT
SUMMARY:11a Fira Mercat Modernista
DTSTART;TZID=Europe/Madrid;VALUE=DATE-TIME:20180915T000000
DTEND;TZID=Europe/Madrid;VALUE=DATE-TIME:20180915T010000
DTSTAMP;VALUE=DATE-TIME:20260422T073556Z
UID:00036a2af542b7ea366fb663b8015ed4
CREATED;VALUE=DATE-TIME:20180915T000000Z
ORGANIZER:Àrea de Promoció Econòmica
COMMENT:Durada: 14, 15 i 16 de setembre de 2018
URL:https://www.canetdemar.cat/document.php?id=16998
END:VEVENT
END:VCALENDAR