BEGIN:VCALENDAR
VERSION:2.0
PRODID:-//Plone.org//NONSGML plone.app.event//EN
X-WR-TIMEZONE:Europe/Madrid
BEGIN:VEVENT
SUMMARY:Hora del conte: La llum de l'Estel
DTSTART;TZID=Europe/Madrid;VALUE=DATE-TIME:20181011T180000
DTEND;TZID=Europe/Madrid;VALUE=DATE-TIME:20181011T190000
DTSTAMP;VALUE=DATE-TIME:20260424T134529Z
UID:1ebcdc03470780713b57d8157da31ccc
CREATED;VALUE=DATE-TIME:20181011T000000Z
CATEGORIES:Infantils
LOCATION:Biblioteca P. Gual i Pujadas
ORGANIZER:Biblioteca P. Gual i Pujadas
COMMENT:Preu: Gratüit
URL:https://www.canetdemar.cat/document.php?id=16949
END:VEVENT
END:VCALENDAR