BEGIN:VCALENDAR
VERSION:2.0
PRODID:-//Plone.org//NONSGML plone.app.event//EN
X-WR-TIMEZONE:Europe/Madrid
BEGIN:VEVENT
SUMMARY:Conte Modernista
DTSTART;TZID=Europe/Madrid;VALUE=DATE-TIME:20180915T110000
DTEND;TZID=Europe/Madrid;VALUE=DATE-TIME:20180915T120000
DTSTAMP;VALUE=DATE-TIME:20260422T034837Z
UID:d5042ba03d46a53d41e028311a876cf5
CREATED;VALUE=DATE-TIME:20180915T000000Z
CATEGORIES:Infantils
LOCATION:Plaça Universitat
ORGANIZER:Biblioteca P. Gual i Pujadas
COMMENT:Preu: Gratüit
DESCRIPTION:amb en Ricard Ull distret
URL:https://www.canetdemar.cat/document.php?id=16948
END:VEVENT
END:VCALENDAR