BEGIN:VCALENDAR
VERSION:2.0
PRODID:-//Plone.org//NONSGML plone.app.event//EN
X-WR-TIMEZONE:Europe/Madrid
BEGIN:VEVENT
SUMMARY:Xerrada - taller divulgatiu: "Consum i producció alimentària al Maresme per fer front al canvi climàtic"
DTSTART;TZID=Europe/Madrid;VALUE=DATE-TIME:20180408T100000
DTEND;TZID=Europe/Madrid;VALUE=DATE-TIME:20180408T110000
DTSTAMP;VALUE=DATE-TIME:20260422T073345Z
UID:7b14f96e53a74d1c4eca478c616f93cb
CREATED;VALUE=DATE-TIME:20180408T000000Z
LOCATION:Vil·la Flora
DESCRIPTION:Jornades de patrimoni natural 2018
URL:https://www.canetdemar.cat/document.php?id=16936
END:VEVENT
END:VCALENDAR