BEGIN:VCALENDAR
VERSION:2.0
PRODID:-//Plone.org//NONSGML plone.app.event//EN
X-WR-TIMEZONE:Europe/Madrid
BEGIN:VEVENT
SUMMARY:Tarda d'Slackline
DTSTART;TZID=Europe/Madrid;VALUE=DATE-TIME:20180427T170000
DTEND;TZID=Europe/Madrid;VALUE=DATE-TIME:20180427T180000
DTSTAMP;VALUE=DATE-TIME:20260423T222418Z
UID:14e8feb756d673895ea879fbad9c95b5
CREATED;VALUE=DATE-TIME:20180427T000000Z
LOCATION:La Masoveria de Vil·la Flora
ORGANIZER:Àrea de Vil·la flora
COMMENT:Preu: gratuït
URL:https://www.canetdemar.cat/document.php?id=16930
END:VEVENT
END:VCALENDAR