BEGIN:VCALENDAR
VERSION:2.0
PRODID:-//Plone.org//NONSGML plone.app.event//EN
X-WR-TIMEZONE:Europe/Madrid
BEGIN:VEVENT
SUMMARY:Curs de cangur
DTSTART;TZID=Europe/Madrid;VALUE=DATE-TIME:20180406T160000
DTEND;TZID=Europe/Madrid;VALUE=DATE-TIME:20180406T170000
DTSTAMP;VALUE=DATE-TIME:20260424T120643Z
UID:d57e2bd89dfb15efde43c2298fa635b9
CREATED;VALUE=DATE-TIME:20180406T000000Z
LOCATION:La Masoveria de Vil·la Flora
ORGANIZER:Àrea de Joventut
COMMENT:Preu: gratuït
Durada: divendres 6 i 13 d'abril de 16.00 a 20.00 hores
URL:https://www.canetdemar.cat/document.php?id=16927
END:VEVENT
END:VCALENDAR