BEGIN:VCALENDAR
VERSION:2.0
PRODID:-//Plone.org//NONSGML plone.app.event//EN
X-WR-TIMEZONE:Europe/Madrid
BEGIN:VEVENT
SUMMARY:L'hora del conte
DTSTART;TZID=Europe/Madrid;VALUE=DATE-TIME:20030125T120000
DTEND;TZID=Europe/Madrid;VALUE=DATE-TIME:20030125T130000
DTSTAMP;VALUE=DATE-TIME:20260422T235222Z
UID:2ff92082334585d9b89cd70a2b0fbaa5
CREATED;VALUE=DATE-TIME:20030125T000000Z
DESCRIPTION:A càrrec de l'Anna Isern i en Paco Pillo
URL:https://www.canetdemar.cat/document.php?id=169
END:VEVENT
END:VCALENDAR