BEGIN:VCALENDAR
VERSION:2.0
PRODID:-//Plone.org//NONSGML plone.app.event//EN
X-WR-TIMEZONE:Europe/Madrid
BEGIN:VEVENT
SUMMARY:Xerrada: Fe, solidaritat i compromís - Sor Lucía Caram
DTSTART;TZID=Europe/Madrid;VALUE=DATE-TIME:20180323T200000
DTEND;TZID=Europe/Madrid;VALUE=DATE-TIME:20180323T210000
DTSTAMP;VALUE=DATE-TIME:20260423T114848Z
UID:d1cb549b9b97e8af76b5b1725c3f8c98
CREATED;VALUE=DATE-TIME:20180323T000000Z
LOCATION:El Centru
ORGANIZER:Àgora Canet
URL:https://www.canetdemar.cat/document.php?id=16831
END:VEVENT
END:VCALENDAR