BEGIN:VCALENDAR
VERSION:2.0
PRODID:-//Plone.org//NONSGML plone.app.event//EN
X-WR-TIMEZONE:Europe/Madrid
BEGIN:VEVENT
SUMMARY:Taller de fang
DTSTART;TZID=Europe/Madrid;VALUE=DATE-TIME:20180315T170000
DTEND;TZID=Europe/Madrid;VALUE=DATE-TIME:20180315T180000
DTSTAMP;VALUE=DATE-TIME:20260423T185723Z
UID:076e2ddd1942672ee836cd3d933f16d9
CREATED;VALUE=DATE-TIME:20180315T000000Z
LOCATION:La Masoveria de Vil·la Flora
ORGANIZER:Àrea de Joventut
COMMENT:Preu: gratuït
Durada: 15 i 16 de març
URL:https://www.canetdemar.cat/document.php?id=16778
END:VEVENT
END:VCALENDAR