BEGIN:VCALENDAR
VERSION:2.0
PRODID:-//Plone.org//NONSGML plone.app.event//EN
X-WR-TIMEZONE:Europe/Madrid
BEGIN:VEVENT
SUMMARY:Sardanes amb la Cobla Contemporània
DTSTART;TZID=Europe/Madrid;VALUE=DATE-TIME:20050806T221500
DTEND;TZID=Europe/Madrid;VALUE=DATE-TIME:20050806T231500
DTSTAMP;VALUE=DATE-TIME:20260425T141310Z
UID:18c657a66d0789f125da5c597e7d88b3
CREATED;VALUE=DATE-TIME:20050806T000000Z
URL:https://www.canetdemar.cat/document.php?id=1676
END:VEVENT
END:VCALENDAR