BEGIN:VCALENDAR
VERSION:2.0
PRODID:-//Plone.org//NONSGML plone.app.event//EN
X-WR-TIMEZONE:Europe/Madrid
BEGIN:VEVENT
SUMMARY:Conferència:Joanna d'Albret, Reina de Navarra i Deborah dels Hugonots
DTSTART;TZID=Europe/Madrid;VALUE=DATE-TIME:20180309T183000
DTEND;TZID=Europe/Madrid;VALUE=DATE-TIME:20180309T193000
DTSTAMP;VALUE=DATE-TIME:20260423T204340Z
UID:bfb1035cfede347002a2d9700eb69736
CREATED;VALUE=DATE-TIME:20180309T000000Z
CATEGORIES:Conferència
LOCATION:Biblioteca P. Gual i Pujadas
COMMENT:Preu: gratuït
DESCRIPTION:Dins els actes de celebració del Dia Internacional de la dona
URL:https://www.canetdemar.cat/document.php?id=16755
END:VEVENT
END:VCALENDAR