BEGIN:VCALENDAR
VERSION:2.0
PRODID:-//Plone.org//NONSGML plone.app.event//EN
X-WR-TIMEZONE:Europe/Madrid
BEGIN:VEVENT
SUMMARY:Sardanes amb la Cobla Premià
DTSTART;TZID=Europe/Madrid;VALUE=DATE-TIME:20050730T221500
DTEND;TZID=Europe/Madrid;VALUE=DATE-TIME:20050730T231500
DTSTAMP;VALUE=DATE-TIME:20260422T125745Z
UID:14b7c26a4915c9838c9cde29030708a2
CREATED;VALUE=DATE-TIME:20050730T000000Z
URL:https://www.canetdemar.cat/document.php?id=1675
END:VEVENT
END:VCALENDAR