BEGIN:VCALENDAR
VERSION:2.0
PRODID:-//Plone.org//NONSGML plone.app.event//EN
X-WR-TIMEZONE:Europe/Madrid
BEGIN:VEVENT
SUMMARY:Exposició fotogràfica: Retrats de la paraula
DTSTART;TZID=Europe/Madrid;VALUE=DATE-TIME:20180424T000000
DTEND;TZID=Europe/Madrid;VALUE=DATE-TIME:20180424T010000
DTSTAMP;VALUE=DATE-TIME:20260423T203931Z
UID:98f276aece49a3dbf8e0f97ff474a435
CREATED;VALUE=DATE-TIME:20180424T000000Z
CATEGORIES:Exposició
LOCATION:Biblioteca P. Gual i Pujadas
ORGANIZER:Biblioteca P. Gual i Pujadas
COMMENT:Preu: Gratuït
Durada: del 24 d'abril al 16 de maig de 2018
URL:https://www.canetdemar.cat/document.php?id=16700
END:VEVENT
END:VCALENDAR