BEGIN:VCALENDAR
VERSION:2.0
PRODID:-//Plone.org//NONSGML plone.app.event//EN
X-WR-TIMEZONE:Europe/Madrid
BEGIN:VEVENT
SUMMARY:Sant Antoni Abad: Festa dels Tres Tombs
DTSTART;TZID=Europe/Madrid;VALUE=DATE-TIME:20030126T100000
DTEND;TZID=Europe/Madrid;VALUE=DATE-TIME:20030126T110000
DTSTAMP;VALUE=DATE-TIME:20260423T131851Z
UID:8f3754dfdeeee9a5092bdaa2f93e57c2
CREATED;VALUE=DATE-TIME:20030126T000000Z
URL:https://www.canetdemar.cat/document.php?id=167
END:VEVENT
END:VCALENDAR