BEGIN:VCALENDAR
VERSION:2.0
PRODID:-//Plone.org//NONSGML plone.app.event//EN
X-WR-TIMEZONE:Europe/Madrid
BEGIN:VEVENT
SUMMARY:Per Carnaval tot s'hi val
DTSTART;TZID=Europe/Madrid;VALUE=DATE-TIME:20180209T235500
DTEND;TZID=Europe/Madrid;VALUE=DATE-TIME:20180210T005500
DTSTAMP;VALUE=DATE-TIME:20260423T220510Z
UID:761d1949c8f12386ae387bff7b1e2271
CREATED;VALUE=DATE-TIME:20180209T000000Z
LOCATION:Masoveria de Vil·la Flora
ORGANIZER:Associació juvenil DEKAA
URL:https://www.canetdemar.cat/document.php?id=16685
END:VEVENT
END:VCALENDAR