BEGIN:VCALENDAR
VERSION:2.0
PRODID:-//Plone.org//NONSGML plone.app.event//EN
X-WR-TIMEZONE:Europe/Madrid
BEGIN:VEVENT
SUMMARY:VII Festival del Castell
DTSTART;TZID=Europe/Madrid;VALUE=DATE-TIME:20050827T220000
DTEND;TZID=Europe/Madrid;VALUE=DATE-TIME:20050827T230000
DTSTAMP;VALUE=DATE-TIME:20260422T202131Z
UID:d46dc6cff70c9fec03ffdbf456d5a5fc
CREATED;VALUE=DATE-TIME:20050827T000000Z
URL:https://www.canetdemar.cat/document.php?id=1668
END:VEVENT
END:VCALENDAR