BEGIN:VCALENDAR
VERSION:2.0
PRODID:-//Plone.org//NONSGML plone.app.event//EN
X-WR-TIMEZONE:Europe/Madrid
BEGIN:VEVENT
SUMMARY:VII Festival del Castell
DTSTART;TZID=Europe/Madrid;VALUE=DATE-TIME:20050820T220000
DTEND;TZID=Europe/Madrid;VALUE=DATE-TIME:20050820T230000
DTSTAMP;VALUE=DATE-TIME:20260423T050907Z
UID:530491e8b284ba22959a4ef25f0e4589
CREATED;VALUE=DATE-TIME:20050820T000000Z
URL:https://www.canetdemar.cat/document.php?id=1667
END:VEVENT
END:VCALENDAR