BEGIN:VCALENDAR
VERSION:2.0
PRODID:-//Plone.org//NONSGML plone.app.event//EN
X-WR-TIMEZONE:Europe/Madrid
BEGIN:VEVENT
SUMMARY:Club de Lectura
DTSTART;TZID=Europe/Madrid;VALUE=DATE-TIME:20180420T163000
DTEND;TZID=Europe/Madrid;VALUE=DATE-TIME:20180420T173000
DTSTAMP;VALUE=DATE-TIME:20260424T194810Z
UID:c737bf8d640c8d7830bf2daf19440842
CREATED;VALUE=DATE-TIME:20180420T000000Z
CATEGORIES:Literatura
LOCATION:Biblioteca P. Gual i Pujadas
ORGANIZER:Biblioteca P. Gual i Pujadas
URL:https://www.canetdemar.cat/document.php?id=16663
END:VEVENT
END:VCALENDAR