BEGIN:VCALENDAR
VERSION:2.0
PRODID:-//Plone.org//NONSGML plone.app.event//EN
X-WR-TIMEZONE:Europe/Madrid
BEGIN:VEVENT
SUMMARY:VII Festival del Castell
DTSTART;TZID=Europe/Madrid;VALUE=DATE-TIME:20050716T220000
DTEND;TZID=Europe/Madrid;VALUE=DATE-TIME:20050716T230000
DTSTAMP;VALUE=DATE-TIME:20260421T160136Z
UID:f241866fb238381c39ac44d26b73525c
CREATED;VALUE=DATE-TIME:20050716T000000Z
URL:https://www.canetdemar.cat/document.php?id=1661
END:VEVENT
END:VCALENDAR