BEGIN:VCALENDAR
VERSION:2.0
PRODID:-//Plone.org//NONSGML plone.app.event//EN
X-WR-TIMEZONE:Europe/Madrid
BEGIN:VEVENT
SUMMARY:Recapte de joguines
DTSTART;TZID=Europe/Madrid;VALUE=DATE-TIME:20171230T110000
DTEND;TZID=Europe/Madrid;VALUE=DATE-TIME:20171230T120000
DTSTAMP;VALUE=DATE-TIME:20260425T022332Z
UID:8243d9b8ff90812587718a11e395ef42
CREATED;VALUE=DATE-TIME:20171230T000000Z
LOCATION:plaça de la Biblioteca
ORGANIZER:Canet en Acció
COMMENT:Durada: d'11.00 a 13.00 hores
URL:https://www.canetdemar.cat/document.php?id=16599
END:VEVENT
END:VCALENDAR