BEGIN:VCALENDAR
VERSION:2.0
PRODID:-//Plone.org//NONSGML plone.app.event//EN
X-WR-TIMEZONE:Europe/Madrid
BEGIN:VEVENT
SUMMARY:Cinema a la fresca
DTSTART;TZID=Europe/Madrid;VALUE=DATE-TIME:20050729T220000
DTEND;TZID=Europe/Madrid;VALUE=DATE-TIME:20050729T230000
DTSTAMP;VALUE=DATE-TIME:20260423T033418Z
UID:4c84ac3c0cb7fd7c219b24c211784d06
CREATED;VALUE=DATE-TIME:20050729T000000Z
URL:https://www.canetdemar.cat/document.php?id=1659
END:VEVENT
END:VCALENDAR