BEGIN:VCALENDAR
VERSION:2.0
PRODID:-//Plone.org//NONSGML plone.app.event//EN
X-WR-TIMEZONE:Europe/Madrid
BEGIN:VEVENT
SUMMARY:Neules Campassol en directe
DTSTART;TZID=Europe/Madrid;VALUE=DATE-TIME:20171216T180000
DTEND;TZID=Europe/Madrid;VALUE=DATE-TIME:20171216T190000
DTSTAMP;VALUE=DATE-TIME:20260422T165633Z
UID:5024da0983ab18f10aacdeb3fdeba1f3
CREATED;VALUE=DATE-TIME:20171216T000000Z
CATEGORIES:Mostra
LOCATION:Riera Sant Domènec
ORGANIZER:Pastisseria Campassol
COMMENT:Preu: Gratuït
Durada: 16 i 17 de desembre. A partir de les 18.00h hores a la fira de Santa Llúcia
DESCRIPTION:Elaboració de neules artesanes en directe a càrrec de la pastisseria Campassol
URL:https://www.canetdemar.cat/document.php?id=16584
END:VEVENT
END:VCALENDAR