BEGIN:VCALENDAR
VERSION:2.0
PRODID:-//Plone.org//NONSGML plone.app.event//EN
X-WR-TIMEZONE:Europe/Madrid
BEGIN:VEVENT
SUMMARY:Exposició: Connexions de Mar
DTSTART;TZID=Europe/Madrid;VALUE=DATE-TIME:20171217T190000
DTEND;TZID=Europe/Madrid;VALUE=DATE-TIME:20171217T200000
DTSTAMP;VALUE=DATE-TIME:20260426T015026Z
UID:db9eecf11d8e6b6b92e19f95642ab142
CREATED;VALUE=DATE-TIME:20171205T000000Z
LOCATION:Sala Cultural Ramon de Capmany
ORGANIZER:Tornillo Scriu
COMMENT:Durada: De dilluns a divendres de 17.30 a 20.30 hores. Dissabte, diumenge i festius de 11:00 a 14:00 hores i de 17:30 a 20:30 hores.
DESCRIPTION:Nim i Tornillo Scriu
URL:https://www.canetdemar.cat/document.php?id=16547
END:VEVENT
END:VCALENDAR