BEGIN:VCALENDAR
VERSION:2.0
PRODID:-//Plone.org//NONSGML plone.app.event//EN
X-WR-TIMEZONE:Europe/Madrid
BEGIN:VEVENT
SUMMARY:23è Cros Canet
DTSTART;TZID=Europe/Madrid;VALUE=DATE-TIME:20180121T100000
DTEND;TZID=Europe/Madrid;VALUE=DATE-TIME:20180121T110000
DTSTAMP;VALUE=DATE-TIME:20260423T034506Z
UID:d87939fd3bd00adb354800484e097ed2
CREATED;VALUE=DATE-TIME:20180121T000000Z
LOCATION:Pla d'en Sala
ORGANIZER:Sport Canet
URL:https://www.canetdemar.cat/document.php?id=16540
END:VEVENT
END:VCALENDAR