BEGIN:VCALENDAR
VERSION:2.0
PRODID:-//Plone.org//NONSGML plone.app.event//EN
X-WR-TIMEZONE:Europe/Madrid
BEGIN:VEVENT
SUMMARY:Inauguració de la riera Buscarons
DTSTART;TZID=Europe/Madrid;VALUE=DATE-TIME:20050730T180000
DTEND;TZID=Europe/Madrid;VALUE=DATE-TIME:20050730T190000
DTSTAMP;VALUE=DATE-TIME:20260423T200553Z
UID:44728ad613b3e9b897b45839d2c1aa76
CREATED;VALUE=DATE-TIME:20050730T000000Z
URL:https://www.canetdemar.cat/document.php?id=1654
END:VEVENT
END:VCALENDAR