BEGIN:VCALENDAR
VERSION:2.0
PRODID:-//Plone.org//NONSGML plone.app.event//EN
X-WR-TIMEZONE:Europe/Madrid
BEGIN:VEVENT
SUMMARY:Christmas market
DTSTART;TZID=Europe/Madrid;VALUE=DATE-TIME:20171217T100000
DTEND;TZID=Europe/Madrid;VALUE=DATE-TIME:20171217T110000
DTSTAMP;VALUE=DATE-TIME:20260425T123958Z
UID:2040dae42464524a106becf35f379db1
CREATED;VALUE=DATE-TIME:20171209T000000Z
CATEGORIES:Mostra,Festa,Infantils,Música,Teatre
LOCATION:Riera Sant Domènec
ORGANIZER:Àrea de Festes i Mares Malabaristes
COMMENT:Durada: 9,10,16 i 17 desembre de 10.00 a 21.00
DESCRIPTION:Festa de nadal, santa Llúcia i regal
URL:https://www.canetdemar.cat/document.php?id=16535
END:VEVENT
END:VCALENDAR