BEGIN:VCALENDAR
VERSION:2.0
PRODID:-//Plone.org//NONSGML plone.app.event//EN
X-WR-TIMEZONE:Europe/Madrid
BEGIN:VEVENT
SUMMARY:Contes per adults: "Viatges desastrosos"
DTSTART;TZID=Europe/Madrid;VALUE=DATE-TIME:20050721T220000
DTEND;TZID=Europe/Madrid;VALUE=DATE-TIME:20050721T230000
DTSTAMP;VALUE=DATE-TIME:20260423T050331Z
UID:45ce87863160091415203d8e188bd628
CREATED;VALUE=DATE-TIME:20050721T000000Z
URL:https://www.canetdemar.cat/document.php?id=1652
END:VEVENT
END:VCALENDAR