BEGIN:VCALENDAR
VERSION:2.0
PRODID:-//Plone.org//NONSGML plone.app.event//EN
X-WR-TIMEZONE:Europe/Madrid
BEGIN:VEVENT
SUMMARY:Xerrada: Prevenció i actuacions davant els riscos d'accidents a la llar
DTSTART;TZID=Europe/Madrid;VALUE=DATE-TIME:20171204T170000
DTEND;TZID=Europe/Madrid;VALUE=DATE-TIME:20171204T180000
DTSTAMP;VALUE=DATE-TIME:20260423T204805Z
UID:1c803c6e8f45c4e293267ced65eccc9f
CREATED;VALUE=DATE-TIME:20171204T000000Z
LOCATION:Escola de Teixits de Punt - CRTTT, aula 101
ORGANIZER:Àrea de Benestar Social, Associació de dones Sàlvia i Diputació de Barcelona
COMMENT:Durada: de 17.00 a 19.00 hores
URL:https://www.canetdemar.cat/document.php?id=16514
END:VEVENT
END:VCALENDAR