BEGIN:VCALENDAR
VERSION:2.0
PRODID:-//Plone.org//NONSGML plone.app.event//EN
X-WR-TIMEZONE:Europe/Madrid
BEGIN:VEVENT
SUMMARY:Workshop sobre l'escriptora Yoko Tawada
DTSTART;TZID=Europe/Madrid;VALUE=DATE-TIME:20050728T190000
DTEND;TZID=Europe/Madrid;VALUE=DATE-TIME:20050728T200000
DTSTAMP;VALUE=DATE-TIME:20260424T114320Z
UID:1470ba2bd02b788a35afa20d7caa07a6
CREATED;VALUE=DATE-TIME:20050728T000000Z
URL:https://www.canetdemar.cat/document.php?id=1651
END:VEVENT
END:VCALENDAR