BEGIN:VCALENDAR
VERSION:2.0
PRODID:-//Plone.org//NONSGML plone.app.event//EN
X-WR-TIMEZONE:Europe/Madrid
BEGIN:VEVENT
SUMMARY:Taller: Relacions igualitàries (suspès)
DTSTART;TZID=Europe/Madrid;VALUE=DATE-TIME:20180303T100000
DTEND;TZID=Europe/Madrid;VALUE=DATE-TIME:20180303T110000
DTSTAMP;VALUE=DATE-TIME:20260424T152502Z
UID:1110a56191d161f0fcf71106efc582d5
CREATED;VALUE=DATE-TIME:20180303T000000Z
LOCATION:primer pis de La Masoveria centre Cívic de Vil.la Flora
COMMENT:Preu: gratuït
Durada: Dissabte 3 de febrer i dissabte 3 de març de 2018, de 10.00 a 12.00 hores
DESCRIPTION:Acadèmia de les entitats
URL:https://www.canetdemar.cat/document.php?id=16502
END:VEVENT
END:VCALENDAR