BEGIN:VCALENDAR
VERSION:2.0
PRODID:-//Plone.org//NONSGML plone.app.event//EN
X-WR-TIMEZONE:Europe/Madrid
BEGIN:VEVENT
SUMMARY:I Jornada de l'Esport canentenc
DTSTART;TZID=Europe/Madrid;VALUE=DATE-TIME:20171125T180000
DTEND;TZID=Europe/Madrid;VALUE=DATE-TIME:20171125T190000
DTSTAMP;VALUE=DATE-TIME:20260421T123943Z
UID:803f3af07dcec23d6a65e26cbad5cd70
CREATED;VALUE=DATE-TIME:20171125T000000Z
ORGANIZER:Àrea d'Esport
COMMENT:Durada: divendres 24 i dissabte 25 de novembre
URL:https://www.canetdemar.cat/document.php?id=16494
END:VEVENT
END:VCALENDAR