BEGIN:VCALENDAR
VERSION:2.0
PRODID:-//Plone.org//NONSGML plone.app.event//EN
X-WR-TIMEZONE:Europe/Madrid
BEGIN:VEVENT
SUMMARY:Festa de l'Odèon
DTSTART;TZID=Europe/Madrid;VALUE=DATE-TIME:20171110T000000
DTEND;TZID=Europe/Madrid;VALUE=DATE-TIME:20171110T010000
DTSTAMP;VALUE=DATE-TIME:20260421T130035Z
UID:7566efdd0e8a87e5ecb2c73ac93732f4
CREATED;VALUE=DATE-TIME:20171110T000000Z
ORGANIZER:Associació Cultural Plataforma Odèon - ACPo
COMMENT:Preu: preu menú 13 euros. Venda de tiquets: L'herbolari, Forn Vell, Dau al Se7, Fleca Masvidal i Hibiscus
URL:https://www.canetdemar.cat/document.php?id=16482
END:VEVENT
END:VCALENDAR