BEGIN:VCALENDAR
VERSION:2.0
PRODID:-//Plone.org//NONSGML plone.app.event//EN
X-WR-TIMEZONE:Europe/Madrid
BEGIN:VEVENT
SUMMARY:Vine a donar sang
DTSTART;TZID=Europe/Madrid;VALUE=DATE-TIME:20171111T160000
DTEND;TZID=Europe/Madrid;VALUE=DATE-TIME:20171111T170000
DTSTAMP;VALUE=DATE-TIME:20260422T144840Z
UID:70f9479b8ec624c5193918282afa109f
CREATED;VALUE=DATE-TIME:20171111T000000Z
LOCATION:Centre Atenció Primària - CAP - plaça Universitat 1
ORGANIZER:Banc de Sang i Teixits i Departament de Salut de la Generalitat de Catalunya
COMMENT:Durada: 11 de novembre de 16.00 a 20.00 hores i 12 de novembre de 10.00 a 14.00 hores
URL:https://www.canetdemar.cat/document.php?id=16467
END:VEVENT
END:VCALENDAR