BEGIN:VCALENDAR
VERSION:2.0
PRODID:-//Plone.org//NONSGML plone.app.event//EN
X-WR-TIMEZONE:Europe/Madrid
BEGIN:VEVENT
SUMMARY:Postulació contra el càncer
DTSTART;TZID=Europe/Madrid;VALUE=DATE-TIME:20050709T090000
DTEND;TZID=Europe/Madrid;VALUE=DATE-TIME:20050709T100000
DTSTAMP;VALUE=DATE-TIME:20260426T013915Z
UID:93bad795c8b444a046f5ea121a327557
CREATED;VALUE=DATE-TIME:20050709T000000Z
URL:https://www.canetdemar.cat/document.php?id=1644
END:VEVENT
END:VCALENDAR