BEGIN:VCALENDAR
VERSION:2.0
PRODID:-//Plone.org//NONSGML plone.app.event//EN
X-WR-TIMEZONE:Europe/Madrid
BEGIN:VEVENT
SUMMARY:Xerrada sobre els canvis a l'adolescència
DTSTART;TZID=Europe/Madrid;VALUE=DATE-TIME:20171130T180000
DTEND;TZID=Europe/Madrid;VALUE=DATE-TIME:20171130T190000
DTSTAMP;VALUE=DATE-TIME:20260424T195220Z
UID:01921e1cc71b73850a0c4a17f5a7aa20
CREATED;VALUE=DATE-TIME:20171130T000000Z
LOCATION:La Masoveria de Vil·la Flora
ORGANIZER:AMPA del municipi i Ajuntament de Canet amb el suport de Diputació de Barcelona
DESCRIPTION:Xerrada taller activa i participativa
URL:https://www.canetdemar.cat/document.php?id=16429
END:VEVENT
END:VCALENDAR